BEGIN:VCALENDAR
VERSION:2.0
PRODID:-//Shine and Inspire - ECPv6.15.10//NONSGML v1.0//EN
CALSCALE:GREGORIAN
METHOD:PUBLISH
X-WR-CALNAME:Shine and Inspire
X-ORIGINAL-URL:https://www.shineandinspire.org
X-WR-CALDESC:Events for Shine and Inspire
REFRESH-INTERVAL;VALUE=DURATION:PT1H
X-Robots-Tag:noindex
X-PUBLISHED-TTL:PT1H
BEGIN:VTIMEZONE
TZID:America/New_York
BEGIN:DAYLIGHT
TZOFFSETFROM:-0500
TZOFFSETTO:-0400
TZNAME:EDT
DTSTART:20220313T070000
END:DAYLIGHT
BEGIN:STANDARD
TZOFFSETFROM:-0400
TZOFFSETTO:-0500
TZNAME:EST
DTSTART:20221106T060000
END:STANDARD
BEGIN:DAYLIGHT
TZOFFSETFROM:-0500
TZOFFSETTO:-0400
TZNAME:EDT
DTSTART:20230312T070000
END:DAYLIGHT
BEGIN:STANDARD
TZOFFSETFROM:-0400
TZOFFSETTO:-0500
TZNAME:EST
DTSTART:20231105T060000
END:STANDARD
BEGIN:DAYLIGHT
TZOFFSETFROM:-0500
TZOFFSETTO:-0400
TZNAME:EDT
DTSTART:20240310T070000
END:DAYLIGHT
BEGIN:STANDARD
TZOFFSETFROM:-0400
TZOFFSETTO:-0500
TZNAME:EST
DTSTART:20241103T060000
END:STANDARD
END:VTIMEZONE
BEGIN:VEVENT
DTSTART;TZID=America/New_York:20230623T123000
DTEND;TZID=America/New_York:20230623T150000
DTSTAMP:20260425T212518
CREATED:20230522T122259Z
LAST-MODIFIED:20230530T113743Z
UID:3371-1687523400-1687532400@www.shineandinspire.org
SUMMARY:Carol's Birthday Purple Party Fundraiser
DESCRIPTION:  \nCarol is doing a different purple party event for her birthday this year – lunch at Lucca’s Ristorante & Piano Lounge!  Please join us to celebrate Carol’s birthday while helping Shine and Inspire raise money to help our community!  Tickets can be purchased here Carol’s Birthday Purple Party Fundraiser (put Lucca’s in the Memo) or contact Carol for cash\, check\, Zelle or Venmo. \n 
URL:https://www.shineandinspire.org/event/purple-party-birthday-lunch-with-carol-fundraiser/
LOCATION:Lucca’s Ristorante & Piano Lounge\, 144 US-130 South\, Bordentown\, NJ\, 08505
CATEGORIES:Fundraiser
ATTACH;FMTTYPE=application/pdf:https://www.shineandinspire.org/wp-content/uploads/2023/05/Purple-Party-6-23-23-FINAL-II.pdf
ORGANIZER;CN="Shine and Inspire":MAILTO:carol@shineandinspire.org
END:VEVENT
END:VCALENDAR