BEGIN:VCALENDAR
VERSION:2.0
PRODID:-//Shine and Inspire - ECPv6.15.10//NONSGML v1.0//EN
CALSCALE:GREGORIAN
METHOD:PUBLISH
X-WR-CALNAME:Shine and Inspire
X-ORIGINAL-URL:https://www.shineandinspire.org
X-WR-CALDESC:Events for Shine and Inspire
REFRESH-INTERVAL;VALUE=DURATION:PT1H
X-Robots-Tag:noindex
X-PUBLISHED-TTL:PT1H
BEGIN:VTIMEZONE
TZID:America/New_York
BEGIN:DAYLIGHT
TZOFFSETFROM:-0500
TZOFFSETTO:-0400
TZNAME:EDT
DTSTART:20220313T070000
END:DAYLIGHT
BEGIN:STANDARD
TZOFFSETFROM:-0400
TZOFFSETTO:-0500
TZNAME:EST
DTSTART:20221106T060000
END:STANDARD
BEGIN:DAYLIGHT
TZOFFSETFROM:-0500
TZOFFSETTO:-0400
TZNAME:EDT
DTSTART:20230312T070000
END:DAYLIGHT
BEGIN:STANDARD
TZOFFSETFROM:-0400
TZOFFSETTO:-0500
TZNAME:EST
DTSTART:20231105T060000
END:STANDARD
BEGIN:DAYLIGHT
TZOFFSETFROM:-0500
TZOFFSETTO:-0400
TZNAME:EDT
DTSTART:20240310T070000
END:DAYLIGHT
BEGIN:STANDARD
TZOFFSETFROM:-0400
TZOFFSETTO:-0500
TZNAME:EST
DTSTART:20241103T060000
END:STANDARD
END:VTIMEZONE
BEGIN:VEVENT
DTSTART;TZID=America/New_York:20231013T123000
DTEND;TZID=America/New_York:20231013T150000
DTSTAMP:20260425T155258
CREATED:20230820T130521Z
LAST-MODIFIED:20230907T115749Z
UID:3518-1697200200-1697209200@www.shineandinspire.org
SUMMARY:An Afternoon of Conversation\, Connection & Cuisine:  Culinary Experiences Fundraiser
DESCRIPTION:Purchase your ticket(s) here (put Culinary Fundraiser and your menu choice in the memo field): \ndonate.chip-in.us/?nonprofitId=106722 \n 
URL:https://www.shineandinspire.org/event/an-afternoon-of-conversation-connection-cuisine-culinary-experiences-fundraiser/
LOCATION:Daphne’s Private Catering Venue\, 2445 Kuser Road\, Hamilton\, New Jersey\, 08690
ATTACH;FMTTYPE=image/jpeg:https://www.shineandinspire.org/wp-content/uploads/2023/08/daphnes-luncheon.jpg
END:VEVENT
END:VCALENDAR