BEGIN:VCALENDAR
VERSION:2.0
PRODID:-//Shine and Inspire - ECPv6.15.10//NONSGML v1.0//EN
CALSCALE:GREGORIAN
METHOD:PUBLISH
X-WR-CALNAME:Shine and Inspire
X-ORIGINAL-URL:https://www.shineandinspire.org
X-WR-CALDESC:Events for Shine and Inspire
REFRESH-INTERVAL;VALUE=DURATION:PT1H
X-Robots-Tag:noindex
X-PUBLISHED-TTL:PT1H
BEGIN:VTIMEZONE
TZID:America/New_York
BEGIN:DAYLIGHT
TZOFFSETFROM:-0500
TZOFFSETTO:-0400
TZNAME:EDT
DTSTART:20230312T070000
END:DAYLIGHT
BEGIN:STANDARD
TZOFFSETFROM:-0400
TZOFFSETTO:-0500
TZNAME:EST
DTSTART:20231105T060000
END:STANDARD
BEGIN:DAYLIGHT
TZOFFSETFROM:-0500
TZOFFSETTO:-0400
TZNAME:EDT
DTSTART:20240310T070000
END:DAYLIGHT
BEGIN:STANDARD
TZOFFSETFROM:-0400
TZOFFSETTO:-0500
TZNAME:EST
DTSTART:20241103T060000
END:STANDARD
BEGIN:DAYLIGHT
TZOFFSETFROM:-0500
TZOFFSETTO:-0400
TZNAME:EDT
DTSTART:20250309T070000
END:DAYLIGHT
BEGIN:STANDARD
TZOFFSETFROM:-0400
TZOFFSETTO:-0500
TZNAME:EST
DTSTART:20251102T060000
END:STANDARD
END:VTIMEZONE
BEGIN:VEVENT
DTSTART;TZID=America/New_York:20240419T180000
DTEND;TZID=America/New_York:20240419T220000
DTSTAMP:20260425T064224
CREATED:20231019T121840Z
LAST-MODIFIED:20240119T175812Z
UID:3557-1713549600-1713564000@www.shineandinspire.org
SUMMARY:A Night to Shine: Broadway Edition!
DESCRIPTION:Walk down the red carpet and be transported to our annual gala fundraiser Broadway style!  Starring music\, dancing\, dinner\, wine\, beer and our known for fantastic Tricky Tray and Lucky Lady.  Wear your favorite broadway-themed costume for a chance to win a Tony (and prize) for Best In categories.  Several ways to buy your tickets\, you don’t want to miss this!\n\nZELLE carol@shineandinspire.org\nVENMO Shine and Inspire\nOr use this link for a credit card\nCart (collectcheckout.com)\n\nClick on the Event link above to make your credit card payment.  Help us help others – hope to see you there!
URL:https://www.shineandinspire.org/event/a-night-to-shine-broadway-edition/
LOCATION:NJ
ATTACH;FMTTYPE=image/png:https://www.shineandinspire.org/wp-content/uploads/2023/10/BroadwayEtsyInviteTemplateDocument.pdf-1.png
END:VEVENT
END:VCALENDAR