BEGIN:VCALENDAR
VERSION:2.0
PRODID:-//Shine and Inspire - ECPv6.15.10//NONSGML v1.0//EN
CALSCALE:GREGORIAN
METHOD:PUBLISH
X-WR-CALNAME:Shine and Inspire
X-ORIGINAL-URL:https://www.shineandinspire.org
X-WR-CALDESC:Events for Shine and Inspire
REFRESH-INTERVAL;VALUE=DURATION:PT1H
X-Robots-Tag:noindex
X-PUBLISHED-TTL:PT1H
BEGIN:VTIMEZONE
TZID:America/New_York
BEGIN:DAYLIGHT
TZOFFSETFROM:-0500
TZOFFSETTO:-0400
TZNAME:EDT
DTSTART:20240310T070000
END:DAYLIGHT
BEGIN:STANDARD
TZOFFSETFROM:-0400
TZOFFSETTO:-0500
TZNAME:EST
DTSTART:20241103T060000
END:STANDARD
BEGIN:DAYLIGHT
TZOFFSETFROM:-0500
TZOFFSETTO:-0400
TZNAME:EDT
DTSTART:20250309T070000
END:DAYLIGHT
BEGIN:STANDARD
TZOFFSETFROM:-0400
TZOFFSETTO:-0500
TZNAME:EST
DTSTART:20251102T060000
END:STANDARD
BEGIN:DAYLIGHT
TZOFFSETFROM:-0500
TZOFFSETTO:-0400
TZNAME:EDT
DTSTART:20260308T070000
END:DAYLIGHT
BEGIN:STANDARD
TZOFFSETFROM:-0400
TZOFFSETTO:-0500
TZNAME:EST
DTSTART:20261101T060000
END:STANDARD
END:VTIMEZONE
BEGIN:VEVENT
DTSTART;TZID=America/New_York:20250425T180000
DTEND;TZID=America/New_York:20250425T220000
DTSTAMP:20260424T123741
CREATED:20250102T160949Z
LAST-MODIFIED:20250109T174906Z
UID:4317-1745604000-1745618400@www.shineandinspire.org
SUMMARY:A Night to Shine: Country Western Edition Fundraiser
DESCRIPTION:Put on your jeans and boots and join us at A Night to Shine: Country Western Edition\, our annual fundraising gala.  We have a fantastic night planned with great food\, music\, our famous Tricky Tray and Lucky Horseshoe Mystery Table\, and some other fun we have up our sleeves.  And you can’t talk about Country Western without mentioning line dancing!  We will have lots of line dancing\, and if you don’t know how but always wanted to learn we will be teaching! \nGet your tickets now! \nTo pay by credit card\, either click this link: \nhttps://collectcheckout.com/r/usioopr5b8lrx92vhuyjfq7mmc9ggp \nOr scan the QR code in the invite. \nYou can also: \n\nZELLE carol@shineandinspire.org\n\n\nVenmo Shine and Inspire\n\n\nMail a check to Shine and Inspire -106 Straube Center Blvd\, Pennington\, NJ 08534\n\nWe hope you join us!
URL:https://www.shineandinspire.org/event/save-the-date-a-purple-night-to-shine-country-western-edition-fundraiser/
LOCATION:NJ
ATTACH;FMTTYPE=image/png:https://www.shineandinspire.org/wp-content/uploads/2025/01/Copy-of-Hoedown-Birthday-Invite-01-1.png
END:VEVENT
END:VCALENDAR