BEGIN:VCALENDAR
VERSION:2.0
PRODID:-//Shine and Inspire - ECPv6.15.10//NONSGML v1.0//EN
CALSCALE:GREGORIAN
METHOD:PUBLISH
X-WR-CALNAME:Shine and Inspire
X-ORIGINAL-URL:https://www.shineandinspire.org
X-WR-CALDESC:Events for Shine and Inspire
REFRESH-INTERVAL;VALUE=DURATION:PT1H
X-Robots-Tag:noindex
X-PUBLISHED-TTL:PT1H
BEGIN:VTIMEZONE
TZID:America/New_York
BEGIN:DAYLIGHT
TZOFFSETFROM:-0500
TZOFFSETTO:-0400
TZNAME:EDT
DTSTART:20200308T070000
END:DAYLIGHT
BEGIN:STANDARD
TZOFFSETFROM:-0400
TZOFFSETTO:-0500
TZNAME:EST
DTSTART:20201101T060000
END:STANDARD
BEGIN:DAYLIGHT
TZOFFSETFROM:-0500
TZOFFSETTO:-0400
TZNAME:EDT
DTSTART:20210314T070000
END:DAYLIGHT
BEGIN:STANDARD
TZOFFSETFROM:-0400
TZOFFSETTO:-0500
TZNAME:EST
DTSTART:20211107T060000
END:STANDARD
BEGIN:DAYLIGHT
TZOFFSETFROM:-0500
TZOFFSETTO:-0400
TZNAME:EDT
DTSTART:20220313T070000
END:DAYLIGHT
BEGIN:STANDARD
TZOFFSETFROM:-0400
TZOFFSETTO:-0500
TZNAME:EST
DTSTART:20221106T060000
END:STANDARD
BEGIN:DAYLIGHT
TZOFFSETFROM:-0500
TZOFFSETTO:-0400
TZNAME:EDT
DTSTART:20230312T070000
END:DAYLIGHT
BEGIN:STANDARD
TZOFFSETFROM:-0400
TZOFFSETTO:-0500
TZNAME:EST
DTSTART:20231105T060000
END:STANDARD
BEGIN:DAYLIGHT
TZOFFSETFROM:-0500
TZOFFSETTO:-0400
TZNAME:EDT
DTSTART:20240310T070000
END:DAYLIGHT
BEGIN:STANDARD
TZOFFSETFROM:-0400
TZOFFSETTO:-0500
TZNAME:EST
DTSTART:20241103T060000
END:STANDARD
BEGIN:DAYLIGHT
TZOFFSETFROM:-0500
TZOFFSETTO:-0400
TZNAME:EDT
DTSTART:20250309T070000
END:DAYLIGHT
BEGIN:STANDARD
TZOFFSETFROM:-0400
TZOFFSETTO:-0500
TZNAME:EST
DTSTART:20251102T060000
END:STANDARD
BEGIN:DAYLIGHT
TZOFFSETFROM:-0500
TZOFFSETTO:-0400
TZNAME:EDT
DTSTART:20260308T070000
END:DAYLIGHT
BEGIN:STANDARD
TZOFFSETFROM:-0400
TZOFFSETTO:-0500
TZNAME:EST
DTSTART:20261101T060000
END:STANDARD
BEGIN:DAYLIGHT
TZOFFSETFROM:-0500
TZOFFSETTO:-0400
TZNAME:EDT
DTSTART:20270314T070000
END:DAYLIGHT
BEGIN:STANDARD
TZOFFSETFROM:-0400
TZOFFSETTO:-0500
TZNAME:EST
DTSTART:20271107T060000
END:STANDARD
END:VTIMEZONE
BEGIN:VEVENT
DTSTART;TZID=America/New_York:20260206T190000
DTEND;TZID=America/New_York:20260206T210000
DTSTAMP:20260423T160512
CREATED:20260106T152632Z
LAST-MODIFIED:20260204T145743Z
UID:4735-1770404400-1770411600@www.shineandinspire.org
SUMMARY:(SOLD OUT) Dine & Create Night at Outside the Lines Art Studio (Lite fare by Daphne's)
DESCRIPTION:SOLD OUT!!!!!\nThe last dine & create fundraising event at Outside the Lines Art Studio was so much fun\, back for another on February 6th!\n\n\nPut your decorative touch on an oval platter\, heart-shaped trinket box or bud vase. Light fare by Daphne’s (always so yummy). A great friend’s night out (feel free to BYOB your favorite wine).\n\n\nClick on the link to register:\nhttps://occ.sn/QXxMxvrQ
URL:https://www.shineandinspire.org/event/dine-create-night-at-outside-the-lines-art-studio-lite-fare-by-daphes/
LOCATION:Outside the Lines Art Studio\, 1710 Kuser Road\, Hamilton\, NJ\, 08690
CATEGORIES:Fundraiser
ATTACH;FMTTYPE=image/jpeg:https://www.shineandinspire.org/wp-content/uploads/2026/01/dine-and-create-2-6-26.jpg
END:VEVENT
BEGIN:VEVENT
DTSTART;TZID=America/New_York:20251017T123000
DTEND;TZID=America/New_York:20251017T153000
DTSTAMP:20260423T160512
CREATED:20250724T212905Z
LAST-MODIFIED:20250724T212905Z
UID:4491-1760704200-1760715000@www.shineandinspire.org
SUMMARY:Spooktacular Culinary Experience Fundraiser
DESCRIPTION:
URL:https://www.shineandinspire.org/event/spooktacular-culinary-experience-fundraiser/
LOCATION:Blend Bar & Bistro\, 911 Highway 33\, Hamilton\, 08690\, United States
ATTACH;FMTTYPE=image/png:https://www.shineandinspire.org/wp-content/uploads/2025/07/Blend-Luncheon-PNG.png
ORGANIZER;CN="Shine and Inspire":MAILTO:carol@shineandinspire.org
END:VEVENT
BEGIN:VEVENT
DTSTART;TZID=America/New_York:20250623T123000
DTEND;TZID=America/New_York:20250623T150000
DTSTAMP:20260423T160512
CREATED:20250514T143142Z
LAST-MODIFIED:20250514T143651Z
UID:4407-1750681800-1750690800@www.shineandinspire.org
SUMMARY:Carol's Purple Birthday Party Fundraiser
DESCRIPTION:
URL:https://www.shineandinspire.org/event/carols-purple-birthday-party-fundraiser/
LOCATION:K’s Event Decorations & Rentals\, 947 Kuser Road\, Hamilton\, NJ\, 08619
ATTACH;FMTTYPE=image/webp:https://www.shineandinspire.org/wp-content/uploads/2025/05/Purple-Party-Invite.webp
END:VEVENT
BEGIN:VEVENT
DTSTART;TZID=America/New_York:20250425T180000
DTEND;TZID=America/New_York:20250425T220000
DTSTAMP:20260423T160512
CREATED:20250102T160949Z
LAST-MODIFIED:20250109T174906Z
UID:4317-1745604000-1745618400@www.shineandinspire.org
SUMMARY:A Night to Shine: Country Western Edition Fundraiser
DESCRIPTION:Put on your jeans and boots and join us at A Night to Shine: Country Western Edition\, our annual fundraising gala.  We have a fantastic night planned with great food\, music\, our famous Tricky Tray and Lucky Horseshoe Mystery Table\, and some other fun we have up our sleeves.  And you can’t talk about Country Western without mentioning line dancing!  We will have lots of line dancing\, and if you don’t know how but always wanted to learn we will be teaching! \nGet your tickets now! \nTo pay by credit card\, either click this link: \nhttps://collectcheckout.com/r/usioopr5b8lrx92vhuyjfq7mmc9ggp \nOr scan the QR code in the invite. \nYou can also: \n\nZELLE carol@shineandinspire.org\n\n\nVenmo Shine and Inspire\n\n\nMail a check to Shine and Inspire -106 Straube Center Blvd\, Pennington\, NJ 08534\n\nWe hope you join us!
URL:https://www.shineandinspire.org/event/save-the-date-a-purple-night-to-shine-country-western-edition-fundraiser/
LOCATION:NJ
ATTACH;FMTTYPE=image/png:https://www.shineandinspire.org/wp-content/uploads/2025/01/Copy-of-Hoedown-Birthday-Invite-01-1.png
END:VEVENT
BEGIN:VEVENT
DTSTART;TZID=America/New_York:20250123T180000
DTEND;TZID=America/New_York:20250123T200000
DTSTAMP:20260423T160512
CREATED:20250102T160004Z
LAST-MODIFIED:20250103T124158Z
UID:4312-1737655200-1737662400@www.shineandinspire.org
SUMMARY:Galentine's fundraiser sponsored by Outside the Lines Art Studio
DESCRIPTION:Grab a few of your family and friends and join us on January 23rd at the “Galentine’s” fundraiser sponsored by Outside the Lines Art Studio in Hamilton.\n\n\n\nEnjoy a fun-filled night of art when you pick between 3 cute ceramic Valentine’s projects while supporting Shine and Inspire. You have your choice of rimmed heart dish\, medium heart dish or “love” sign.\n\n\n\nLight fare by Daphne’s!!!!!\n\n\nFor tickets\, register at EVENT: “Galantine” Day -Shine and Inspire fundraiser
URL:https://www.shineandinspire.org/event/galentines-fundraiser-on-january-23rd-sponsored-by-outside-the-lines-art-studio/
LOCATION:Outside the Lines Art Studio\, 1710 Kuser Road\, Hamilton\, NJ\, 08690
ATTACH;FMTTYPE=image/jpeg:https://www.shineandinspire.org/wp-content/uploads/2025/01/GALENTINES-01-23-24.jpg
END:VEVENT
BEGIN:VEVENT
DTSTART;TZID=America/New_York:20241025T123000
DTEND;TZID=America/New_York:20241025T150000
DTSTAMP:20260423T160512
CREATED:20240915T151637Z
LAST-MODIFIED:20240915T155057Z
UID:3978-1729859400-1729868400@www.shineandinspire.org
SUMMARY:Our Next Culinary Experiences Fundraiser – Louie’s by Chef Jason
DESCRIPTION:ZELLE carol@shineandinspire.org\nVENMO Shine and Inspire\nOr use this link for a credit card:\nCart (collectcheckout.com)\n\nDon’t forget to put your menu selection in the comments!\n\n(If you did not scan the QR code and are on the Events List web page\, click on the Event link above to make your credit card payment)
URL:https://www.shineandinspire.org/event/our-next-culinary-experiences-fundraiser-louies-by-chef-jason-2/
LOCATION:Louie’s by Chef Jason\, 1111 US 130 North\, Robbinsville\, NJ\, 08691
ATTACH;FMTTYPE=application/pdf:https://www.shineandinspire.org/wp-content/uploads/2024/09/Louies-Flyer-10-25-24-1.pdf
END:VEVENT
BEGIN:VEVENT
DTSTART;TZID=America/New_York:20240419T180000
DTEND;TZID=America/New_York:20240419T220000
DTSTAMP:20260423T160512
CREATED:20231019T121840Z
LAST-MODIFIED:20240119T175812Z
UID:3557-1713549600-1713564000@www.shineandinspire.org
SUMMARY:A Night to Shine: Broadway Edition!
DESCRIPTION:Walk down the red carpet and be transported to our annual gala fundraiser Broadway style!  Starring music\, dancing\, dinner\, wine\, beer and our known for fantastic Tricky Tray and Lucky Lady.  Wear your favorite broadway-themed costume for a chance to win a Tony (and prize) for Best In categories.  Several ways to buy your tickets\, you don’t want to miss this!\n\nZELLE carol@shineandinspire.org\nVENMO Shine and Inspire\nOr use this link for a credit card\nCart (collectcheckout.com)\n\nClick on the Event link above to make your credit card payment.  Help us help others – hope to see you there!
URL:https://www.shineandinspire.org/event/a-night-to-shine-broadway-edition/
LOCATION:NJ
ATTACH;FMTTYPE=image/png:https://www.shineandinspire.org/wp-content/uploads/2023/10/BroadwayEtsyInviteTemplateDocument.pdf-1.png
END:VEVENT
BEGIN:VEVENT
DTSTART;TZID=America/New_York:20240209T123000
DTEND;TZID=America/New_York:20240209T150000
DTSTAMP:20260423T160512
CREATED:20240111T143230Z
LAST-MODIFIED:20240119T175343Z
UID:3844-1707481800-1707490800@www.shineandinspire.org
SUMMARY:Our Next Culinary Experiences Fundraiser - Louie's by Chef Jason
DESCRIPTION:ZELLE carol@shineandinspire.org\nVENMO Shine and Inspire\nOr use this link for a credit card\nCart (collectcheckout.com)\n\nClick on the Event link above to make your credit card payment.\n\nPut your menu selection in the comments.  For credit card users we are still working on adding comments to our experience\, we will follow up to get your menu selection.
URL:https://www.shineandinspire.org/event/our-next-culinary-experiences-fundraiser-louies-by-chef-jason/
LOCATION:Louie’s by Chef Jason\, 1111 US 130 North\, Robbinsville\, NJ\, United States
ATTACH;FMTTYPE=application/pdf:https://www.shineandinspire.org/wp-content/uploads/2024/01/Culinary-Cuisine-Invite-Louies-2-9-24-4.pdf
ORGANIZER;CN="Shine and Inspire":MAILTO:carol@shineandinspire.org
END:VEVENT
BEGIN:VEVENT
DTSTART;VALUE=DATE:20231112
DTEND;VALUE=DATE:20231113
DTSTAMP:20260423T160512
CREATED:20230402T111125Z
LAST-MODIFIED:20230402T111125Z
UID:3219-1699747200-1699833599@www.shineandinspire.org
SUMMARY:Brother's 33 50th Anniversary Charity Highlight
DESCRIPTION:Once a month in honor of their 50th anniversary\, Brother’s 33\, one of our biggest supporters\, will be highlighting a charity.  So honored to have been chose for the month of November!  50% (wow!) of sales\, eat in or take out\, will be donated to Shine and Inspire.
URL:https://www.shineandinspire.org/event/brothers-33-50th-anniversary-charity-highlight/
LOCATION:NJ
ATTACH;FMTTYPE=image/png:https://www.shineandinspire.org/wp-content/uploads/2023/04/brothers.png
END:VEVENT
BEGIN:VEVENT
DTSTART;TZID=America/New_York:20231013T123000
DTEND;TZID=America/New_York:20231013T150000
DTSTAMP:20260423T160512
CREATED:20230820T130521Z
LAST-MODIFIED:20230907T115749Z
UID:3518-1697200200-1697209200@www.shineandinspire.org
SUMMARY:An Afternoon of Conversation\, Connection & Cuisine:  Culinary Experiences Fundraiser
DESCRIPTION:Purchase your ticket(s) here (put Culinary Fundraiser and your menu choice in the memo field): \ndonate.chip-in.us/?nonprofitId=106722 \n 
URL:https://www.shineandinspire.org/event/an-afternoon-of-conversation-connection-cuisine-culinary-experiences-fundraiser/
LOCATION:Daphne’s Private Catering Venue\, 2445 Kuser Road\, Hamilton\, New Jersey\, 08690
ATTACH;FMTTYPE=image/jpeg:https://www.shineandinspire.org/wp-content/uploads/2023/08/daphnes-luncheon.jpg
END:VEVENT
BEGIN:VEVENT
DTSTART;TZID=America/New_York:20230623T123000
DTEND;TZID=America/New_York:20230623T150000
DTSTAMP:20260423T160512
CREATED:20230522T122259Z
LAST-MODIFIED:20230530T113743Z
UID:3371-1687523400-1687532400@www.shineandinspire.org
SUMMARY:Carol's Birthday Purple Party Fundraiser
DESCRIPTION:  \nCarol is doing a different purple party event for her birthday this year – lunch at Lucca’s Ristorante & Piano Lounge!  Please join us to celebrate Carol’s birthday while helping Shine and Inspire raise money to help our community!  Tickets can be purchased here Carol’s Birthday Purple Party Fundraiser (put Lucca’s in the Memo) or contact Carol for cash\, check\, Zelle or Venmo. \n 
URL:https://www.shineandinspire.org/event/purple-party-birthday-lunch-with-carol-fundraiser/
LOCATION:Lucca’s Ristorante & Piano Lounge\, 144 US-130 South\, Bordentown\, NJ\, 08505
CATEGORIES:Fundraiser
ATTACH;FMTTYPE=application/pdf:https://www.shineandinspire.org/wp-content/uploads/2023/05/Purple-Party-6-23-23-FINAL-II.pdf
ORGANIZER;CN="Shine and Inspire":MAILTO:carol@shineandinspire.org
END:VEVENT
BEGIN:VEVENT
DTSTART;TZID=America/New_York:20230425T080000
DTEND;TZID=America/New_York:20230425T150000
DTSTAMP:20260423T160512
CREATED:20230402T040025Z
LAST-MODIFIED:20230402T105115Z
UID:3212-1682409600-1682434800@www.shineandinspire.org
SUMMARY:Shine and Inspire Fundraiser at Brookwood Cafe
DESCRIPTION:Enjoy Breakfast\, Brunch or Lunch at Brookwood Cafe on April 25th and Shine and Inspire receives 10% of sales!  Plus food is yummy – win\, win! \n 
URL:https://www.shineandinspire.org/event/shine-and-inspire-fundraiser-at-brookwood-cafe/
LOCATION:NJ
CATEGORIES:Fundraiser
ATTACH;FMTTYPE=image/jpeg:https://www.shineandinspire.org/wp-content/uploads/2023/04/brookwood-sign-1.jpg
END:VEVENT
BEGIN:VEVENT
DTSTART;VALUE=DATE:20230414
DTEND;VALUE=DATE:20230415
DTSTAMP:20260423T160512
CREATED:20230116T153742Z
LAST-MODIFIED:20230116T155050Z
UID:3153-1681430400-1681516799@www.shineandinspire.org
SUMMARY:A Night to Shine:  Groovy 60's Edition
DESCRIPTION:Tickets are now on sale for A Night to Shine: Groovy 60’s Edition! We’ve been told our fundraising events are one of the best in the area\, and we have lots of fun planned for the evening. And what’s not to love about the 60’s – bell bottoms\, mini-skirts\, tie-dye\, flower power and peace signs. Wear your 60’s best (prize for best outfit) as we’ll be taking everyone back to a groovier time! You can purchase tickets at Eventbrite at https://www.eventbrite.com/…/a-night-to-shine-groovy…. You can also go to the donate page at Donate – Shine and Inspire and put Night to Shine in the comments. Checks also accepted\, message us for details. Peace out …
URL:https://www.shineandinspire.org/event/a-night-to-shine-groovy-60s-edition/
LOCATION:Nottingham Ballroom\, 200 Mercer Street\, Hamilton Square\, NJ
CATEGORIES:Fundraiser
ATTACH;FMTTYPE=image/png:https://www.shineandinspire.org/wp-content/uploads/2023/01/Copy-of-woodstockmobile-5-×-7-in.png
ORGANIZER;CN="Shine and Inspire":MAILTO:carol@shineandinspire.org
END:VEVENT
BEGIN:VEVENT
DTSTART;VALUE=DATE:20221014
DTEND;VALUE=DATE:20221015
DTSTAMP:20260423T160512
CREATED:20220304T205301Z
LAST-MODIFIED:20220908T115620Z
UID:2671-1665705600-1665791999@www.shineandinspire.org
SUMMARY:10th Anniversary - A Night to Shine Roaring 20's Edition
DESCRIPTION:Tickets are now on sale for A Night to Shine: Roaring 20’s Edition! It’s our 10th anniversary and we want to celebrate in Gatsby style (we’ll have a prize for best 20’s outfit). Bring your significant other for a date night\, put together a table of your friends\, or come yourself and meet new people!\n\nWe’ve been told we have one of the best events in the area\, and we have a fabulous night planned! Dinner\, dessert\, drinks (wine and beverages)\, music\, dancing and our famous Tricky Tray and Lucky Lady. Get your tickets now (they will sell fast) with three ways to pay:\n\n\n\nEventbrite – https://www.eventbrite.com/…/a-night-to-shine-roaring…\nChip In – https://donate.chip-in.us/?nonprofitId=106722 (fill in ticket amount and type Night to Shine in the comments)\nAnd\, of course\, you can mail your check!
URL:https://www.shineandinspire.org/event/a-night-to-shine-fashion-edition/
LOCATION:NJ
CATEGORIES:Fundraiser
ATTACH;FMTTYPE=application/pdf:https://www.shineandinspire.org/wp-content/uploads/2022/03/wwwbobotempcom_ZUycr-1.pdf
END:VEVENT
BEGIN:VEVENT
DTSTART;VALUE=DATE:20220623
DTEND;VALUE=DATE:20220624
DTSTAMP:20260423T160512
CREATED:20220304T202405Z
LAST-MODIFIED:20220614T130903Z
UID:2659-1655942400-1656028799@www.shineandinspire.org
SUMMARY:A Purple Night to Shine
DESCRIPTION:Ticket prices go up on June 16th – get your tickets now!  Don’t miss this fabulous event and help us help others! \nhttps://chip-in.us/inspire (put your name and “Purple Night to Shine” in the comments)
URL:https://www.shineandinspire.org/event/a-purple-night-to-shine/
LOCATION:Nottingham Ballroom\, 200 Mercer Street\, Hamilton Square\, NJ
CATEGORIES:Fundraiser
ATTACH;FMTTYPE=image/jpeg:https://www.shineandinspire.org/wp-content/uploads/2022/03/new-purple-shine.jpg
END:VEVENT
BEGIN:VEVENT
DTSTART;VALUE=DATE:20220423
DTEND;VALUE=DATE:20220424
DTSTAMP:20260423T160512
CREATED:20220304T204924Z
LAST-MODIFIED:20220415T123303Z
UID:2667-1650672000-1650758399@www.shineandinspire.org
SUMMARY:Barnes & Noble Book Fair
DESCRIPTION:Please join us at the Barnes & Noble Book Fair for Shine and Inspire!  There will be author events and crafting for the children.  You must use a bookfair ID to check out (see below) and will be valid in-store on April 23rd (you can also say you are with Shine and Inspire)\, or on-line April 23-28 (on the payment page there will be a section at the bottom that states Apply Bookfair ID here).  Even purchases in the cafe count toward the bookfair! \n“The more that you read\, the more things you will know. The more that you learn\, the more places you’ll go.” ― Dr. Seuss\, I Can Read With My Eyes Shut!
URL:https://www.shineandinspire.org/event/barnes-noble-book-fair/
LOCATION:Barnes & Noble\, Princeton Market Fair\, Princeton\, NJ
CATEGORIES:Fundraiser
ATTACH;FMTTYPE=image/jpeg:https://www.shineandinspire.org/wp-content/uploads/2022/03/Shine-Book-Fair.jpg
END:VEVENT
BEGIN:VEVENT
DTSTART;TZID=America/New_York:20211205T120000
DTEND;TZID=America/New_York:20211205T170000
DTSTAMP:20260423T160512
CREATED:20211118T151840Z
LAST-MODIFIED:20211120T210946Z
UID:2139-1638705600-1638723600@www.shineandinspire.org
SUMMARY:Annual Children's Holiday Party 2021
DESCRIPTION:Every year Shine and Inspire hosts a holiday event for children. It’s an afternoon of food\, crafts\, fun and learning about Paying It Forward. The children come from low income families where basic needs are not always met — please help us to meet of these needs and brighten the lives of these local children! We spend about $250 per child and they receive winter clothes\, sneakers/boots\, toys and much more! You can sponsor a child (or any donation is very much appreciated). Facebook pays all the processing fees for you\, so 100% of your donation goes directly to the non-profit. \nTo donate: https://chip-in.us/inspire \nTo sponsor a child: email Amy at amyatbtp@gmail.com
URL:https://www.shineandinspire.org/event/annual-childrens-holiday-party-2021/
LOCATION:NJ
ATTACH;FMTTYPE=image/jpeg:https://www.shineandinspire.org/wp-content/uploads/2021/11/Shine-Holiday-Party-2021.jpg
END:VEVENT
END:VCALENDAR