BEGIN:VCALENDAR
VERSION:2.0
PRODID:-//Shine and Inspire - ECPv6.15.10//NONSGML v1.0//EN
CALSCALE:GREGORIAN
METHOD:PUBLISH
X-WR-CALNAME:Shine and Inspire
X-ORIGINAL-URL:https://www.shineandinspire.org
X-WR-CALDESC:Events for Shine and Inspire
REFRESH-INTERVAL;VALUE=DURATION:PT1H
X-Robots-Tag:noindex
X-PUBLISHED-TTL:PT1H
BEGIN:VTIMEZONE
TZID:America/New_York
BEGIN:DAYLIGHT
TZOFFSETFROM:-0500
TZOFFSETTO:-0400
TZNAME:EDT
DTSTART:20200308T070000
END:DAYLIGHT
BEGIN:STANDARD
TZOFFSETFROM:-0400
TZOFFSETTO:-0500
TZNAME:EST
DTSTART:20201101T060000
END:STANDARD
BEGIN:DAYLIGHT
TZOFFSETFROM:-0500
TZOFFSETTO:-0400
TZNAME:EDT
DTSTART:20210314T070000
END:DAYLIGHT
BEGIN:STANDARD
TZOFFSETFROM:-0400
TZOFFSETTO:-0500
TZNAME:EST
DTSTART:20211107T060000
END:STANDARD
BEGIN:DAYLIGHT
TZOFFSETFROM:-0500
TZOFFSETTO:-0400
TZNAME:EDT
DTSTART:20220313T070000
END:DAYLIGHT
BEGIN:STANDARD
TZOFFSETFROM:-0400
TZOFFSETTO:-0500
TZNAME:EST
DTSTART:20221106T060000
END:STANDARD
END:VTIMEZONE
BEGIN:VEVENT
DTSTART;TZID=America/New_York:20211205T120000
DTEND;TZID=America/New_York:20211205T170000
DTSTAMP:20260425T082507
CREATED:20211118T151840Z
LAST-MODIFIED:20211120T210946Z
UID:2139-1638705600-1638723600@www.shineandinspire.org
SUMMARY:Annual Children's Holiday Party 2021
DESCRIPTION:Every year Shine and Inspire hosts a holiday event for children. It’s an afternoon of food\, crafts\, fun and learning about Paying It Forward. The children come from low income families where basic needs are not always met — please help us to meet of these needs and brighten the lives of these local children! We spend about $250 per child and they receive winter clothes\, sneakers/boots\, toys and much more! You can sponsor a child (or any donation is very much appreciated). Facebook pays all the processing fees for you\, so 100% of your donation goes directly to the non-profit. \nTo donate: https://chip-in.us/inspire \nTo sponsor a child: email Amy at amyatbtp@gmail.com
URL:https://www.shineandinspire.org/event/annual-childrens-holiday-party-2021/
LOCATION:NJ
ATTACH;FMTTYPE=image/jpeg:https://www.shineandinspire.org/wp-content/uploads/2021/11/Shine-Holiday-Party-2021.jpg
END:VEVENT
END:VCALENDAR