BEGIN:VCALENDAR
VERSION:2.0
PRODID:-//Shine and Inspire - ECPv6.15.10//NONSGML v1.0//EN
CALSCALE:GREGORIAN
METHOD:PUBLISH
X-ORIGINAL-URL:https://www.shineandinspire.org
X-WR-CALDESC:Events for Shine and Inspire
REFRESH-INTERVAL;VALUE=DURATION:PT1H
X-Robots-Tag:noindex
X-PUBLISHED-TTL:PT1H
BEGIN:VTIMEZONE
TZID:America/New_York
BEGIN:DAYLIGHT
TZOFFSETFROM:-0500
TZOFFSETTO:-0400
TZNAME:EDT
DTSTART:20220313T070000
END:DAYLIGHT
BEGIN:STANDARD
TZOFFSETFROM:-0400
TZOFFSETTO:-0500
TZNAME:EST
DTSTART:20221106T060000
END:STANDARD
BEGIN:DAYLIGHT
TZOFFSETFROM:-0500
TZOFFSETTO:-0400
TZNAME:EDT
DTSTART:20230312T070000
END:DAYLIGHT
BEGIN:STANDARD
TZOFFSETFROM:-0400
TZOFFSETTO:-0500
TZNAME:EST
DTSTART:20231105T060000
END:STANDARD
BEGIN:DAYLIGHT
TZOFFSETFROM:-0500
TZOFFSETTO:-0400
TZNAME:EDT
DTSTART:20240310T070000
END:DAYLIGHT
BEGIN:STANDARD
TZOFFSETFROM:-0400
TZOFFSETTO:-0500
TZNAME:EST
DTSTART:20241103T060000
END:STANDARD
END:VTIMEZONE
BEGIN:VEVENT
DTSTART;VALUE=DATE:20230414
DTEND;VALUE=DATE:20230415
DTSTAMP:20260425T231120
CREATED:20230116T153742Z
LAST-MODIFIED:20230116T155050Z
UID:3153-1681430400-1681516799@www.shineandinspire.org
SUMMARY:A Night to Shine:  Groovy 60's Edition
DESCRIPTION:Tickets are now on sale for A Night to Shine: Groovy 60’s Edition! We’ve been told our fundraising events are one of the best in the area\, and we have lots of fun planned for the evening. And what’s not to love about the 60’s – bell bottoms\, mini-skirts\, tie-dye\, flower power and peace signs. Wear your 60’s best (prize for best outfit) as we’ll be taking everyone back to a groovier time! You can purchase tickets at Eventbrite at https://www.eventbrite.com/…/a-night-to-shine-groovy…. You can also go to the donate page at Donate – Shine and Inspire and put Night to Shine in the comments. Checks also accepted\, message us for details. Peace out …
URL:https://www.shineandinspire.org/event/a-night-to-shine-groovy-60s-edition/
LOCATION:Nottingham Ballroom\, 200 Mercer Street\, Hamilton Square\, NJ
CATEGORIES:Fundraiser
ATTACH;FMTTYPE=image/png:https://www.shineandinspire.org/wp-content/uploads/2023/01/Copy-of-woodstockmobile-5-×-7-in.png
ORGANIZER;CN="Shine and Inspire":MAILTO:carol@shineandinspire.org
END:VEVENT
BEGIN:VEVENT
DTSTART;TZID=America/New_York:20230425T080000
DTEND;TZID=America/New_York:20230425T150000
DTSTAMP:20260425T231120
CREATED:20230402T040025Z
LAST-MODIFIED:20230402T105115Z
UID:3212-1682409600-1682434800@www.shineandinspire.org
SUMMARY:Shine and Inspire Fundraiser at Brookwood Cafe
DESCRIPTION:Enjoy Breakfast\, Brunch or Lunch at Brookwood Cafe on April 25th and Shine and Inspire receives 10% of sales!  Plus food is yummy – win\, win! \n 
URL:https://www.shineandinspire.org/event/shine-and-inspire-fundraiser-at-brookwood-cafe/
LOCATION:NJ
CATEGORIES:Fundraiser
ATTACH;FMTTYPE=image/jpeg:https://www.shineandinspire.org/wp-content/uploads/2023/04/brookwood-sign-1.jpg
END:VEVENT
END:VCALENDAR