BEGIN:VCALENDAR
VERSION:2.0
PRODID:-//Shine and Inspire - ECPv6.15.10//NONSGML v1.0//EN
CALSCALE:GREGORIAN
METHOD:PUBLISH
X-WR-CALNAME:Shine and Inspire
X-ORIGINAL-URL:https://www.shineandinspire.org
X-WR-CALDESC:Events for Shine and Inspire
REFRESH-INTERVAL;VALUE=DURATION:PT1H
X-Robots-Tag:noindex
X-PUBLISHED-TTL:PT1H
BEGIN:VTIMEZONE
TZID:America/New_York
BEGIN:DAYLIGHT
TZOFFSETFROM:-0500
TZOFFSETTO:-0400
TZNAME:EDT
DTSTART:20220313T070000
END:DAYLIGHT
BEGIN:STANDARD
TZOFFSETFROM:-0400
TZOFFSETTO:-0500
TZNAME:EST
DTSTART:20221106T060000
END:STANDARD
BEGIN:DAYLIGHT
TZOFFSETFROM:-0500
TZOFFSETTO:-0400
TZNAME:EDT
DTSTART:20230312T070000
END:DAYLIGHT
BEGIN:STANDARD
TZOFFSETFROM:-0400
TZOFFSETTO:-0500
TZNAME:EST
DTSTART:20231105T060000
END:STANDARD
BEGIN:DAYLIGHT
TZOFFSETFROM:-0500
TZOFFSETTO:-0400
TZNAME:EDT
DTSTART:20240310T070000
END:DAYLIGHT
BEGIN:STANDARD
TZOFFSETFROM:-0400
TZOFFSETTO:-0500
TZNAME:EST
DTSTART:20241103T060000
END:STANDARD
END:VTIMEZONE
BEGIN:VEVENT
DTSTART;VALUE=DATE:20231112
DTEND;VALUE=DATE:20231113
DTSTAMP:20260425T125828
CREATED:20230402T111125Z
LAST-MODIFIED:20230402T111125Z
UID:3219-1699747200-1699833599@www.shineandinspire.org
SUMMARY:Brother's 33 50th Anniversary Charity Highlight
DESCRIPTION:Once a month in honor of their 50th anniversary\, Brother’s 33\, one of our biggest supporters\, will be highlighting a charity.  So honored to have been chose for the month of November!  50% (wow!) of sales\, eat in or take out\, will be donated to Shine and Inspire.
URL:https://www.shineandinspire.org/event/brothers-33-50th-anniversary-charity-highlight/
LOCATION:NJ
ATTACH;FMTTYPE=image/png:https://www.shineandinspire.org/wp-content/uploads/2023/04/brothers.png
END:VEVENT
END:VCALENDAR